BEGIN:VCALENDAR
VERSION:2.0
PRODID:-//Revolution Church - ECPv6.15.20//NONSGML v1.0//EN
CALSCALE:GREGORIAN
METHOD:PUBLISH
X-ORIGINAL-URL:https://revolutionchurch.world
X-WR-CALDESC:Events for Revolution Church
REFRESH-INTERVAL;VALUE=DURATION:PT1H
X-Robots-Tag:noindex
X-PUBLISHED-TTL:PT1H
BEGIN:VTIMEZONE
TZID:UTC
BEGIN:STANDARD
TZOFFSETFROM:+0000
TZOFFSETTO:+0000
TZNAME:UTC
DTSTART:20250101T000000
END:STANDARD
END:VTIMEZONE
BEGIN:VEVENT
DTSTART;TZID=UTC:20260125T100000
DTEND;TZID=UTC:20260125T120000
DTSTAMP:20260423T041155
CREATED:20260102T040233Z
LAST-MODIFIED:20260102T040233Z
UID:3860-1769335200-1769342400@revolutionchurch.world
SUMMARY:Jersey Sunday
DESCRIPTION:JERSEY SUNDAY – Rep Your Team \nJoin us for Jersey Sunday onSunday\, January 25\, 2026Service Time: 10:00 AM \nWear your favorite sports jersey and represent your team.NFL • NBA • College • Any Team \nWe invite you to come enjoy a fun\, faith-filled Sunday with family and friends at Revolution Kingdom Church.
URL:https://revolutionchurch.world/event/jersey-sunday/
LOCATION:Revolution Church\, 1047 Red Venture Drive\, Fort Mill\, SC\, 29720\, United States
END:VEVENT
END:VCALENDAR