BEGIN:VCALENDAR
VERSION:2.0
PRODID:-//Revolution Church - ECPv6.15.20//NONSGML v1.0//EN
CALSCALE:GREGORIAN
METHOD:PUBLISH
X-WR-CALNAME:Revolution Church
X-ORIGINAL-URL:https://revolutionchurch.world
X-WR-CALDESC:Events for Revolution Church
REFRESH-INTERVAL;VALUE=DURATION:PT1H
X-Robots-Tag:noindex
X-PUBLISHED-TTL:PT1H
BEGIN:VTIMEZONE
TZID:UTC
BEGIN:STANDARD
TZOFFSETFROM:+0000
TZOFFSETTO:+0000
TZNAME:UTC
DTSTART:20240101T000000
END:STANDARD
END:VTIMEZONE
BEGIN:VEVENT
DTSTART;TZID=UTC:20251207T160000
DTEND;TZID=UTC:20251207T180000
DTSTAMP:20260423T054258
CREATED:20251120T184904Z
LAST-MODIFIED:20251120T184904Z
UID:3857-1765123200-1765130400@revolutionchurch.world
SUMMARY:Apostolic Anniversary
DESCRIPTION:Join us as we celebrate Apostle Marlene Mackey’s Apostolic Anniversary!We are honored to have our very own Pastor Malcolm M. Williams bringing the Word as the guest speaker at 4 PM. \nIt’s going to be a powerful time of honor\, impartation\, and celebration — you don’t want to miss it! 🙌🏽✨
URL:https://revolutionchurch.world/event/apostolic-anniversary/
LOCATION:Mt Olive Holiness Church\, 5507 Lancaster HWY\, Fort Lawn\, SC\, 29714\, United States
END:VEVENT
BEGIN:VEVENT
DTSTART;TZID=UTC:20251214T100000
DTEND;TZID=UTC:20251214T110000
DTSTAMP:20260423T054258
CREATED:20251120T165046Z
LAST-MODIFIED:20251120T165046Z
UID:3855-1765706400-1765710000@revolutionchurch.world
SUMMARY:🎁 Revolution Church Blessing Exchange
DESCRIPTION:Join us for a fun and meaningful gift exchange as we celebrate together! Each person is invited to bring a gift valued at $25 to bless someone in the church family. It’s a time of joy\, connection\, and showing love through giving.
URL:https://revolutionchurch.world/event/%f0%9f%8e%81-revolution-church-blessing-exchange/
LOCATION:SC
END:VEVENT
END:VCALENDAR