BEGIN:VCALENDAR
VERSION:2.0
PRODID:-//Revolution Church - ECPv6.15.20//NONSGML v1.0//EN
CALSCALE:GREGORIAN
METHOD:PUBLISH
X-ORIGINAL-URL:https://revolutionchurch.world
X-WR-CALDESC:Events for Revolution Church
REFRESH-INTERVAL;VALUE=DURATION:PT1H
X-Robots-Tag:noindex
X-PUBLISHED-TTL:PT1H
BEGIN:VTIMEZONE
TZID:UTC
BEGIN:STANDARD
TZOFFSETFROM:+0000
TZOFFSETTO:+0000
TZNAME:UTC
DTSTART:20240101T000000
END:STANDARD
END:VTIMEZONE
BEGIN:VEVENT
DTSTART;TZID=UTC:20251017T083000
DTEND;TZID=UTC:20251017T140000
DTSTAMP:20260423T084415
CREATED:20250730T183844Z
LAST-MODIFIED:20250730T183844Z
UID:3829-1760689800-1760709600@revolutionchurch.world
SUMMARY:KINGDOM IMPACT CONFERENCE
DESCRIPTION:Join our Pastor Malcolm Williams as he ministers at Kingdom Impact Conference;8610 Farrow Rd. Columbia SC. 8:30 am Meet and Greet.
URL:https://revolutionchurch.world/event/kingdom-impact-conference/
LOCATION:Kingdom Impact\, 8610 Farrow Rd\, Columbia\, SC\, 29203\, United States
END:VEVENT
BEGIN:VEVENT
DTSTART;TZID=UTC:20251018T100000
DTEND;TZID=UTC:20251018T140000
DTSTAMP:20260423T084415
CREATED:20250730T190314Z
LAST-MODIFIED:20250730T190529Z
UID:3832-1760781600-1760796000@revolutionchurch.world
SUMMARY:WOMENS CONFERENCE
DESCRIPTION:Join our Pastor Jamesila Williams as she ministers at a Women’s Conference atFortify The City in Fort Mill SC. Tickets are available below under the website tab. Please see Below to purchase tickets!
URL:https://revolutionchurch.world/event/womens-conference/
LOCATION:Fortify The City\, 16748 Bridge Hampton Club Dr\, Fort Mill\, SC\, United States
END:VEVENT
END:VCALENDAR