BEGIN:VCALENDAR
VERSION:2.0
PRODID:-//Revolution Church - ECPv6.15.20//NONSGML v1.0//EN
CALSCALE:GREGORIAN
METHOD:PUBLISH
X-WR-CALNAME:Revolution Church
X-ORIGINAL-URL:https://revolutionchurch.world
X-WR-CALDESC:Events for Revolution Church
REFRESH-INTERVAL;VALUE=DURATION:PT1H
X-Robots-Tag:noindex
X-PUBLISHED-TTL:PT1H
BEGIN:VTIMEZONE
TZID:UTC
BEGIN:STANDARD
TZOFFSETFROM:+0000
TZOFFSETTO:+0000
TZNAME:UTC
DTSTART:20240101T000000
END:STANDARD
END:VTIMEZONE
BEGIN:VEVENT
DTSTART;TZID=UTC:20250615T100000
DTEND;TZID=UTC:20250615T120000
DTSTAMP:20260423T141231
CREATED:20250506T172614Z
LAST-MODIFIED:20250506T172614Z
UID:3778-1749981600-1749988800@revolutionchurch.world
SUMMARY:Father's Day Sunday
DESCRIPTION:Join Us for Father’s Day Sunday – June 15\, 2025\nCelebrate the strength\, leadership\, and love of fathers with us on Sunday\, June 15\, 2025! It will be a powerful service honoring the dads who lead with faith and purpose. Bring the whole family for a day of gratitude and inspiration!
URL:https://revolutionchurch.world/event/fathers-day-sunday/
LOCATION:Revolution Church\, 1047 Red Venture Drive\, Fort Mill\, SC\, 29720\, United States
END:VEVENT
BEGIN:VEVENT
DTSTART;TZID=UTC:20250620T190000
DTEND;TZID=UTC:20250620T203000
DTSTAMP:20260423T141232
CREATED:20250506T172036Z
LAST-MODIFIED:20250506T172036Z
UID:3772-1750446000-1750451400@revolutionchurch.world
SUMMARY:Ignite The Fire
DESCRIPTION:We’re excited to announce that our very own Pastor Jamesila Williams will be a part of the “Ignite the Fire” event happening June 20th at 7pm at Fresh Anointing Ministries in Lancaster\, SC. She will be serving as one of the intercessors for this powerful move of God!
URL:https://revolutionchurch.world/event/ignite-the-fire/
LOCATION:407 Barr Street\, 407 Barr Street\, Lancaster\, SC\, 29720\, United States
END:VEVENT
BEGIN:VEVENT
DTSTART;TZID=UTC:20250621T110000
DTEND;TZID=UTC:20250621T140000
DTSTAMP:20260423T141232
CREATED:20250319T141758Z
LAST-MODIFIED:20250319T142358Z
UID:3748-1750503600-1750514400@revolutionchurch.world
SUMMARY:Marriage Conference
DESCRIPTION:Join Pastors Malcolm and Jamesila Williams as they take part in the Marriage Conference hosted by Lifeline Ministries under the leadership of Apostle Gwendolyn McIntyre. This powerful gathering will be a time of wisdom\, restoration\, and encouragement for marriages and singles alike. Don’t miss this opportunity to receive biblical insight and practical tools to strengthen your relationships!
URL:https://revolutionchurch.world/event/marriage-conference/
LOCATION:Lifeline Ministries\, 300 South Avenue\, Lancaster\, SC\, 29720\, United States
END:VEVENT
END:VCALENDAR