BEGIN:VCALENDAR
VERSION:2.0
PRODID:-//Revolution Church - ECPv6.15.20//NONSGML v1.0//EN
CALSCALE:GREGORIAN
METHOD:PUBLISH
X-WR-CALNAME:Revolution Church
X-ORIGINAL-URL:https://revolutionchurch.world
X-WR-CALDESC:Events for Revolution Church
REFRESH-INTERVAL;VALUE=DURATION:PT1H
X-Robots-Tag:noindex
X-PUBLISHED-TTL:PT1H
BEGIN:VTIMEZONE
TZID:UTC
BEGIN:STANDARD
TZOFFSETFROM:+0000
TZOFFSETTO:+0000
TZNAME:UTC
DTSTART:20240101T000000
END:STANDARD
END:VTIMEZONE
BEGIN:VEVENT
DTSTART;TZID=UTC:20250511T100000
DTEND;TZID=UTC:20250511T120000
DTSTAMP:20260423T152341
CREATED:20250506T172455Z
LAST-MODIFIED:20250506T172455Z
UID:3775-1746957600-1746964800@revolutionchurch.world
SUMMARY:Mother's Day Sunday
DESCRIPTION:Join Us Sunday for Mother’s Day – 5/11/25Celebrate the strength\, love\, and beauty of mothers with us this Sunday\, May 11th\, 2025! It’s going to be a special service filled with honor\, inspiration\, and gratitude for all the amazing moms. Don’t miss this beautiful moment of celebration!
URL:https://revolutionchurch.world/event/mothers-day-sunday/
LOCATION:Revolution Church\, 1047 Red Venture Drive\, Fort Mill\, SC\, 29720\, United States
END:VEVENT
BEGIN:VEVENT
DTSTART;TZID=UTC:20250517T100000
DTEND;TZID=UTC:20250517T140000
DTSTAMP:20260423T152341
CREATED:20250319T141114Z
LAST-MODIFIED:20250319T142810Z
UID:3746-1747476000-1747490400@revolutionchurch.world
SUMMARY:Men's Conference
DESCRIPTION:Mark your calendars and get ready to join Pastor Malcolm Williams in Boiling Springs\, SC\, for a powerful Men’s Conference! This transformative event will empower\, equip\, and encourage men to walk boldly in their faith and purpose. More details coming soon!
URL:https://revolutionchurch.world/event/mens-conference/
LOCATION:Boiling Springs High School\, 2251 Old Furnace Road\, Boiling Springs\, SC\, 29316\, United States
END:VEVENT
BEGIN:VEVENT
DTSTART;TZID=UTC:20250529T120000
DTEND;TZID=UTC:20250529T133000
DTSTAMP:20260423T152341
CREATED:20250507T141235Z
LAST-MODIFIED:20250507T141235Z
UID:3782-1748520000-1748525400@revolutionchurch.world
SUMMARY:The Power of The Divine BluePrint
DESCRIPTION:Join Pastor Malcolm Williams LIVE! Tune in on Apostle Manoly’s Facebook page as Pastor Malcolm Williams dives into “The Power of the Divine Blueprint” Discover how God’s plan shapes purpose\, identity\, and kingdom success!
URL:https://revolutionchurch.world/event/the-power-of-the-divine-blueprint/
LOCATION:SC
END:VEVENT
END:VCALENDAR