BEGIN:VCALENDAR
VERSION:2.0
PRODID:-//Revolution Church - ECPv6.15.20//NONSGML v1.0//EN
CALSCALE:GREGORIAN
METHOD:PUBLISH
X-ORIGINAL-URL:https://revolutionchurch.world
X-WR-CALDESC:Events for Revolution Church
REFRESH-INTERVAL;VALUE=DURATION:PT1H
X-Robots-Tag:noindex
X-PUBLISHED-TTL:PT1H
BEGIN:VTIMEZONE
TZID:UTC
BEGIN:STANDARD
TZOFFSETFROM:+0000
TZOFFSETTO:+0000
TZNAME:UTC
DTSTART:20240101T000000
END:STANDARD
END:VTIMEZONE
BEGIN:VEVENT
DTSTART;TZID=UTC:20250406T140000
DTEND;TZID=UTC:20250406T170000
DTSTAMP:20260423T165159
CREATED:20250310T164446Z
LAST-MODIFIED:20250310T164446Z
UID:3480-1743948000-1743958800@revolutionchurch.world
SUMMARY:1 Year Church Anniversary
DESCRIPTION:Revolution Church 1-Year Anniversary Celebration 🎉✨ \nJoin Revolution Church as we celebrate one year of God’s faithfulness! This is a time of worship\, thanksgiving\, and reflection on all that God has done in our ministry and community. \n📅 Date: April 6th\n⏰ Time: 2:00 PM\n📍 Location: TBA (More details coming soon!) \nCome ready to celebrate\, fellowship\, and give God glory for this incredible milestone. Stay tuned for more details—you don’t want to miss it!
URL:https://revolutionchurch.world/event/1-year-church-anniversary/
LOCATION:SC
END:VEVENT
END:VCALENDAR