BEGIN:VCALENDAR
VERSION:2.0
PRODID:-//Revolution Church - ECPv6.15.20//NONSGML v1.0//EN
CALSCALE:GREGORIAN
METHOD:PUBLISH
X-ORIGINAL-URL:https://revolutionchurch.world
X-WR-CALDESC:Events for Revolution Church
REFRESH-INTERVAL;VALUE=DURATION:PT1H
X-Robots-Tag:noindex
X-PUBLISHED-TTL:PT1H
BEGIN:VTIMEZONE
TZID:UTC
BEGIN:STANDARD
TZOFFSETFROM:+0000
TZOFFSETTO:+0000
TZNAME:UTC
DTSTART:20250101T000000
END:STANDARD
END:VTIMEZONE
BEGIN:VEVENT
DTSTART;TZID=UTC:20260430T193000
DTEND;TZID=UTC:20260502T100000
DTSTAMP:20260423T023511
CREATED:20260119T152240Z
LAST-MODIFIED:20260119T152240Z
UID:3865-1777577400-1777716000@revolutionchurch.world
SUMMARY:Commited "Prophetess Shaquana Glenn"
DESCRIPTION:April 30- May 2nd\, 2026 Join RKC with Prophetess Shaquana Glenn Global Ministries \, please click the link below to register!
URL:https://revolutionchurch.world/event/commited-prophetess-shaquana-glenn/
LOCATION:SC
END:VEVENT
END:VCALENDAR