BEGIN:VCALENDAR
VERSION:2.0
PRODID:-//Revolution Church - ECPv6.15.20//NONSGML v1.0//EN
CALSCALE:GREGORIAN
METHOD:PUBLISH
X-ORIGINAL-URL:https://revolutionchurch.world
X-WR-CALDESC:Events for Revolution Church
REFRESH-INTERVAL;VALUE=DURATION:PT1H
X-Robots-Tag:noindex
X-PUBLISHED-TTL:PT1H
BEGIN:VTIMEZONE
TZID:UTC
BEGIN:STANDARD
TZOFFSETFROM:+0000
TZOFFSETTO:+0000
TZNAME:UTC
DTSTART:20250101T000000
END:STANDARD
END:VTIMEZONE
BEGIN:VEVENT
DTSTART;TZID=UTC:20260201T130000
DTEND;TZID=UTC:20260201T150000
DTSTAMP:20260423T041054
CREATED:20260119T152707Z
LAST-MODIFIED:20260119T152707Z
UID:3867-1769950800-1769958000@revolutionchurch.world
SUMMARY:Town Hall Meet & Greet
DESCRIPTION:Reinforcements meet Reinforcements\, We will have a meet and greet to fellowship with RKC South!
URL:https://revolutionchurch.world/event/town-hall-meet-greet/
LOCATION:Lancaster Bowling Alley\, 1352 Reece road\, Lancaster\, SC\, 29720\, United States
END:VEVENT
END:VCALENDAR