BEGIN:VCALENDAR
VERSION:2.0
PRODID:-//Revolution Church - ECPv6.15.20//NONSGML v1.0//EN
CALSCALE:GREGORIAN
METHOD:PUBLISH
X-WR-CALNAME:Revolution Church
X-ORIGINAL-URL:https://revolutionchurch.world
X-WR-CALDESC:Events for Revolution Church
REFRESH-INTERVAL;VALUE=DURATION:PT1H
X-Robots-Tag:noindex
X-PUBLISHED-TTL:PT1H
BEGIN:VTIMEZONE
TZID:UTC
BEGIN:STANDARD
TZOFFSETFROM:+0000
TZOFFSETTO:+0000
TZNAME:UTC
DTSTART:20240101T000000
END:STANDARD
END:VTIMEZONE
BEGIN:VEVENT
DTSTART;TZID=UTC:20250921T100000
DTEND;TZID=UTC:20250921T120000
DTSTAMP:20260423T112631
CREATED:20250807T161842Z
LAST-MODIFIED:20250807T162229Z
UID:3846-1758448800-1758456000@revolutionchurch.world
SUMMARY:Faith and Family Sunday
DESCRIPTION:Coordinate with your family\, twin with your spouse\, kids\, or siblings in matching outfits or colors.
URL:https://revolutionchurch.world/event/faith-and-family-sunday/
LOCATION:Revolution Church\, 1047 Red Venture Drive\, Fort Mill\, SC\, 29720\, United States
END:VEVENT
END:VCALENDAR