BEGIN:VCALENDAR
VERSION:2.0
PRODID:-//Revolution Church - ECPv6.15.20//NONSGML v1.0//EN
CALSCALE:GREGORIAN
METHOD:PUBLISH
X-WR-CALNAME:Revolution Church
X-ORIGINAL-URL:https://revolutionchurch.world
X-WR-CALDESC:Events for Revolution Church
REFRESH-INTERVAL;VALUE=DURATION:PT1H
X-Robots-Tag:noindex
X-PUBLISHED-TTL:PT1H
BEGIN:VTIMEZONE
TZID:UTC
BEGIN:STANDARD
TZOFFSETFROM:+0000
TZOFFSETTO:+0000
TZNAME:UTC
DTSTART:20240101T000000
END:STANDARD
END:VTIMEZONE
BEGIN:VEVENT
DTSTART;TZID=UTC:20250913T100000
DTEND;TZID=UTC:20250913T150000
DTSTAMP:20260423T112631
CREATED:20250730T183509Z
LAST-MODIFIED:20250730T183509Z
UID:3826-1757757600-1757775600@revolutionchurch.world
SUMMARY:LEADERSHIP CONFERENCE
DESCRIPTION:Join us at Glorious Outreach for a Leadership conference\, starting at 10 AM.With guest speaker\, our very own Pastor Jamesila Williams.The conference location 241 Old Greenville Rd. Spartanburg South Carolina.
URL:https://revolutionchurch.world/event/leadership-conference/
LOCATION:241 Old Greenville Rd\, 241 Old Greenville Road\, Spartanburg\, SC\, 29301\, United States
END:VEVENT
END:VCALENDAR