BEGIN:VCALENDAR
VERSION:2.0
PRODID:-//Revolution Church - ECPv6.15.20//NONSGML v1.0//EN
CALSCALE:GREGORIAN
METHOD:PUBLISH
X-WR-CALNAME:Revolution Church
X-ORIGINAL-URL:https://revolutionchurch.world
X-WR-CALDESC:Events for Revolution Church
REFRESH-INTERVAL;VALUE=DURATION:PT1H
X-Robots-Tag:noindex
X-PUBLISHED-TTL:PT1H
BEGIN:VTIMEZONE
TZID:UTC
BEGIN:STANDARD
TZOFFSETFROM:+0000
TZOFFSETTO:+0000
TZNAME:UTC
DTSTART:20240101T000000
END:STANDARD
END:VTIMEZONE
BEGIN:VEVENT
DTSTART;TZID=UTC:20250907T100000
DTEND;TZID=UTC:20250907T120000
DTSTAMP:20260423T113040
CREATED:20250807T160849Z
LAST-MODIFIED:20250807T160849Z
UID:3842-1757239200-1757246400@revolutionchurch.world
SUMMARY:White Out Sunday
DESCRIPTION:RKC will taking communion- wear your all white as we honor Jesus sacrifice.
URL:https://revolutionchurch.world/event/white-out-sunday/
LOCATION:Revolution Church\, 1047 Red Venture Drive\, Fort Mill\, SC\, 29720\, United States
END:VEVENT
END:VCALENDAR