BEGIN:VCALENDAR
VERSION:2.0
PRODID:-//Revolution Church - ECPv6.15.20//NONSGML v1.0//EN
CALSCALE:GREGORIAN
METHOD:PUBLISH
X-ORIGINAL-URL:https://revolutionchurch.world
X-WR-CALDESC:Events for Revolution Church
REFRESH-INTERVAL;VALUE=DURATION:PT1H
X-Robots-Tag:noindex
X-PUBLISHED-TTL:PT1H
BEGIN:VTIMEZONE
TZID:UTC
BEGIN:STANDARD
TZOFFSETFROM:+0000
TZOFFSETTO:+0000
TZNAME:UTC
DTSTART:20240101T000000
END:STANDARD
END:VTIMEZONE
BEGIN:VEVENT
DTSTART;TZID=UTC:20250529T120000
DTEND;TZID=UTC:20250529T133000
DTSTAMP:20260423T152401
CREATED:20250507T141235Z
LAST-MODIFIED:20250507T141235Z
UID:3782-1748520000-1748525400@revolutionchurch.world
SUMMARY:The Power of The Divine BluePrint
DESCRIPTION:Join Pastor Malcolm Williams LIVE! Tune in on Apostle Manoly’s Facebook page as Pastor Malcolm Williams dives into “The Power of the Divine Blueprint” Discover how God’s plan shapes purpose\, identity\, and kingdom success!
URL:https://revolutionchurch.world/event/the-power-of-the-divine-blueprint/
LOCATION:SC
END:VEVENT
END:VCALENDAR