BEGIN:VCALENDAR
VERSION:2.0
PRODID:-//Revolution Church - ECPv6.15.20//NONSGML v1.0//EN
CALSCALE:GREGORIAN
METHOD:PUBLISH
X-WR-CALNAME:Revolution Church
X-ORIGINAL-URL:https://revolutionchurch.world
X-WR-CALDESC:Events for Revolution Church
REFRESH-INTERVAL;VALUE=DURATION:PT1H
X-Robots-Tag:noindex
X-PUBLISHED-TTL:PT1H
BEGIN:VTIMEZONE
TZID:UTC
BEGIN:STANDARD
TZOFFSETFROM:+0000
TZOFFSETTO:+0000
TZNAME:UTC
DTSTART:20240101T000000
END:STANDARD
END:VTIMEZONE
BEGIN:VEVENT
DTSTART;TZID=UTC:20250329T150000
DTEND;TZID=UTC:20250329T170000
DTSTAMP:20260423T193400
CREATED:20250310T164052Z
LAST-MODIFIED:20250325T232623Z
UID:3478-1743260400-1743267600@revolutionchurch.world
SUMMARY:Love and War Marriage Conference
DESCRIPTION:Marriage Conference with Pastors Malcolm & Jamesila Williams \nJoin Pastors Malcolm & Jamesila Williams as they minister as guest speakers at this powerful Marriage Conference! Whether you are married\, engaged\, or single\, this event is designed to equip and encourage you with biblical wisdom for building strong\, godly relationships. \n📅 Date: March 29⏰ Time: 3:00 PM📍 Location: 1226 Haynes Street\, Rock Hill\, SC 29730 \nCome expecting revelation\, restoration\, and practical insight to strengthen your relationship journey. Singles are welcome! Don’t miss this impactful gathering!
URL:https://revolutionchurch.world/event/love-and-war-marriage-conference/
LOCATION:SC
END:VEVENT
END:VCALENDAR