BEGIN:VCALENDAR
VERSION:2.0
PRODID:-//Revolution Church - ECPv6.15.20//NONSGML v1.0//EN
CALSCALE:GREGORIAN
METHOD:PUBLISH
X-WR-CALNAME:Revolution Church
X-ORIGINAL-URL:https://revolutionchurch.world
X-WR-CALDESC:Events for Revolution Church
REFRESH-INTERVAL;VALUE=DURATION:PT1H
X-Robots-Tag:noindex
X-PUBLISHED-TTL:PT1H
BEGIN:VTIMEZONE
TZID:UTC
BEGIN:STANDARD
TZOFFSETFROM:+0000
TZOFFSETTO:+0000
TZNAME:UTC
DTSTART:20240101T000000
END:STANDARD
END:VTIMEZONE
BEGIN:VEVENT
DTSTART;TZID=UTC:20250322T110000
DTEND;TZID=UTC:20250322T130000
DTSTAMP:20260423T193345
CREATED:20250310T163344Z
LAST-MODIFIED:20250310T163616Z
UID:3472-1742641200-1742648400@revolutionchurch.world
SUMMARY:Outreach Outing
DESCRIPTION:Revolution Kingdom Church & Home is Where the Heart Is \nJoin Revolution Kingdom Church as we partner with “Home is Where the Heart Is” for our Annual Community Outreach! \n📅 Date: 3/22/25⏰ Time: 11:00 AM📍 Location: 3410 Statesville Avenue\, Charlotte\, NC 28206 \nThis is more than an event—it’s a movement of love\, service\, and impact! Come be a part of giving back to the community\, spreading hope\, and making a difference. All are welcome! \n💙 Together\, we are the hands and feet of Jesus!
URL:https://revolutionchurch.world/event/out-reach-outing/
LOCATION:SC
END:VEVENT
END:VCALENDAR