BEGIN:VCALENDAR
VERSION:2.0
PRODID:-//Revolution Church - ECPv6.15.20//NONSGML v1.0//EN
CALSCALE:GREGORIAN
METHOD:PUBLISH
X-WR-CALNAME:Revolution Church
X-ORIGINAL-URL:https://revolutionchurch.world
X-WR-CALDESC:Events for Revolution Church
REFRESH-INTERVAL;VALUE=DURATION:PT1H
X-Robots-Tag:noindex
X-PUBLISHED-TTL:PT1H
BEGIN:VTIMEZONE
TZID:UTC
BEGIN:STANDARD
TZOFFSETFROM:+0000
TZOFFSETTO:+0000
TZNAME:UTC
DTSTART:20240101T000000
END:STANDARD
END:VTIMEZONE
BEGIN:VEVENT
DTSTART;TZID=UTC:20250315T093000
DTEND;TZID=UTC:20250315T103000
DTSTAMP:20260423T193356
CREATED:20250310T162917Z
LAST-MODIFIED:20250310T162917Z
UID:3470-1742031000-1742034600@revolutionchurch.world
SUMMARY:Level Up In Prayer
DESCRIPTION:Level Up in Prayer with Pastor Jamesila Williams \nJoin Pastor Jamesila Williams for Level Up in Prayer every Third Saturday as she leads a powerful time of intercession\, impartation\, and spiritual breakthrough. \n📌 Live Online: 9:30 AM\n📌 In-Person Gathering: 11:00 AM\n📍 Location: 524 Echo Woods Drive\, Lancaster\, SC 29720 \nCome expecting a move of God as we press in deeper through prayer and prophetic insight. Don’t miss this opportunity to grow in your faith and align with God’s purpose! Tune in online or join us in person!
URL:https://revolutionchurch.world/event/level-up-in-prayer/
LOCATION:SC
END:VEVENT
END:VCALENDAR